BEGIN:VCALENDAR
VERSION:2.0
PRODID:-//Tukios.com/
BEGIN:VEVENT
UID:fe76c702-d436-48fb-9e64-317c566c6bdb@www.farrisfuneralservice.com
DTSTAMP:20260421T232108Z
DTSTART:20260501T220000Z
DTEND:20260502T000000Z
SUMMARY:Visitation
DESCRIPTION:
URL:https://www.farrisfuneralservice.com/obituaries/brooklyn-fullen
LOCATION:Main Street Chapel of Farris Funeral Service 427 East Main 
	Street  Abingdon VA 24210
GEO:36.7146959;-81.9635859
END:VEVENT
END:VCALENDAR