BEGIN:VCALENDAR
VERSION:2.0
PRODID:-//Tukios.com/
BEGIN:VEVENT
UID:b8c5c03f-fcc2-4183-8e7b-89c46443bba8@www.farrisfuneralservice.com
DTSTAMP:20260421T232334Z
DTSTART:20260502T180000Z
DTEND:20260502T190000Z
SUMMARY:Funeral Service
DESCRIPTION:
URL:https://www.farrisfuneralservice.com/obituaries/brooklyn-fullen
LOCATION:Farris Funeral Service 427 East Main Street  Abingdon VA 24210
GEO:36.7146959;-81.9635859
END:VEVENT
END:VCALENDAR