BEGIN:VCALENDAR
VERSION:2.0
PRODID:-//Tukios.com/
BEGIN:VEVENT
UID:1efe4f0b-b59f-4898-bdbe-765f18cc1af6@www.farrisfuneralservice.com
DTSTAMP:20260424T182726Z
DTSTART:20260426T210000Z
DTEND:20260426T230000Z
SUMMARY:Visitation
DESCRIPTION:
URL:https://www.farrisfuneralservice.com/obituaries/daniel-little-sr
LOCATION: 427 E Main St  Abingdon VA 24210
GEO:36.714718;-81.963596
END:VEVENT
END:VCALENDAR