BEGIN:VCALENDAR
VERSION:2.0
PRODID:-//Tukios.com/
BEGIN:VEVENT
UID:6a0950a3-f5b1-48ac-b8f2-dc2f35f2f7a7@www.farrisfuneralservice.com
DTSTAMP:20260424T182801Z
DTSTART:20260427T180000Z
DTEND:20260427T190000Z
SUMMARY:Funeral Service
DESCRIPTION:
URL:https://www.farrisfuneralservice.com/obituaries/daniel-little-sr
LOCATION: 427 E Main St  Abingdon VA 24210
GEO:36.714718;-81.963596
END:VEVENT
END:VCALENDAR