BEGIN:VCALENDAR
VERSION:2.0
PRODID:-//Tukios.com/
BEGIN:VEVENT
UID:88f5b155-0fa7-497d-bfd3-5f611dbd731a@www.farrisfuneralservice.com
DTSTAMP:20260424T210623Z
DTSTART:20260427T150000Z
DTEND:20260427T160000Z
SUMMARY:Graveside Service
DESCRIPTION:
URL:https://www.farrisfuneralservice.com/obituaries/freddie-rouse
LOCATION: 19415 Lee Hwy  Abingdon VA 24210
GEO:36.6980776;-82.0199686
END:VEVENT
END:VCALENDAR